BEGIN:VCALENDAR
VERSION:2.0
PRODID:-//Granite State Marines - ECPv6.15.20//NONSGML v1.0//EN
CALSCALE:GREGORIAN
METHOD:PUBLISH
X-ORIGINAL-URL:https://granitestatemarines.com
X-WR-CALDESC:Events for Granite State Marines
REFRESH-INTERVAL;VALUE=DURATION:PT1H
X-Robots-Tag:noindex
X-PUBLISHED-TTL:PT1H
BEGIN:VTIMEZONE
TZID:America/New_York
BEGIN:DAYLIGHT
TZOFFSETFROM:-0500
TZOFFSETTO:-0400
TZNAME:EDT
DTSTART:20250309T070000
END:DAYLIGHT
BEGIN:STANDARD
TZOFFSETFROM:-0400
TZOFFSETTO:-0500
TZNAME:EST
DTSTART:20251102T060000
END:STANDARD
BEGIN:DAYLIGHT
TZOFFSETFROM:-0500
TZOFFSETTO:-0400
TZNAME:EDT
DTSTART:20260308T070000
END:DAYLIGHT
BEGIN:STANDARD
TZOFFSETFROM:-0400
TZOFFSETTO:-0500
TZNAME:EST
DTSTART:20261101T060000
END:STANDARD
BEGIN:DAYLIGHT
TZOFFSETFROM:-0500
TZOFFSETTO:-0400
TZNAME:EDT
DTSTART:20270314T070000
END:DAYLIGHT
BEGIN:STANDARD
TZOFFSETFROM:-0400
TZOFFSETTO:-0500
TZNAME:EST
DTSTART:20271107T060000
END:STANDARD
END:VTIMEZONE
BEGIN:VEVENT
DTSTART;TZID=America/New_York:20260627T080000
DTEND;TZID=America/New_York:20260627T090000
DTSTAMP:20260424T113258
CREATED:20260217T145350Z
LAST-MODIFIED:20260217T145350Z
UID:2897-1782547200-1782550800@granitestatemarines.com
SUMMARY:GSD 542 Monthly FUNday Breakfast
DESCRIPTION:Join the Granite State Detachment #542 for our monthly breakfast to talk and catch up with each other.
URL:https://granitestatemarines.com/event/gsd-542-monthly-funday-breakfast-21/
LOCATION:Airport Diner\, 2280 Brown Ave\, Manchester\, NH\, United States
ORGANIZER;CN="Granite State Detachment 542":MAILTO:granitestatemarines542@gmail.com
END:VEVENT
END:VCALENDAR