BEGIN:VCALENDAR
VERSION:2.0
PRODID:-//Granite State Marines - ECPv6.15.20//NONSGML v1.0//EN
CALSCALE:GREGORIAN
METHOD:PUBLISH
X-WR-CALNAME:Granite State Marines
X-ORIGINAL-URL:https://granitestatemarines.com
X-WR-CALDESC:Events for Granite State Marines
REFRESH-INTERVAL;VALUE=DURATION:PT1H
X-Robots-Tag:noindex
X-PUBLISHED-TTL:PT1H
BEGIN:VTIMEZONE
TZID:America/New_York
BEGIN:DAYLIGHT
TZOFFSETFROM:-0500
TZOFFSETTO:-0400
TZNAME:EDT
DTSTART:20250309T070000
END:DAYLIGHT
BEGIN:STANDARD
TZOFFSETFROM:-0400
TZOFFSETTO:-0500
TZNAME:EST
DTSTART:20251102T060000
END:STANDARD
BEGIN:DAYLIGHT
TZOFFSETFROM:-0500
TZOFFSETTO:-0400
TZNAME:EDT
DTSTART:20260308T070000
END:DAYLIGHT
BEGIN:STANDARD
TZOFFSETFROM:-0400
TZOFFSETTO:-0500
TZNAME:EST
DTSTART:20261101T060000
END:STANDARD
BEGIN:DAYLIGHT
TZOFFSETFROM:-0500
TZOFFSETTO:-0400
TZNAME:EDT
DTSTART:20270314T070000
END:DAYLIGHT
BEGIN:STANDARD
TZOFFSETFROM:-0400
TZOFFSETTO:-0500
TZNAME:EST
DTSTART:20271107T060000
END:STANDARD
END:VTIMEZONE
BEGIN:VEVENT
DTSTART;VALUE=DATE:20260808
DTEND;VALUE=DATE:20260809
DTSTAMP:20260424T141053
CREATED:20260422T135916Z
LAST-MODIFIED:20260422T135916Z
UID:2967-1786147200-1786233599@granitestatemarines.com
SUMMARY:VetFest 2
DESCRIPTION:The Department of NH will be participating in this awesome event.  On August 8\, we will be at the Deerfield Fairgrounds in support of VetFest 2.  We will have our popup\, table(s) and some items for sale.  Most importantly\, we will have the opportunity to interact with literally thousands of people. \nAttending the event is free.  Vendors and organizations such as ours that will be setting up table and popups have already paid the registration fee. \nThis is the link to a Facebook page for Veterans Resource Alliance of New Hampshire.  These are the folks responsible for VetFest.  Please go to their page and explore it.  Just click here. \nThis is the link to the address the venue for those who need it.  It is at the Deerfield Fairgrounds and that address is here. \nCome on out for a fun time at VetFest 2!
URL:https://granitestatemarines.com/event/vetfest-2/
LOCATION:Deerfield Fairgrounds\, 34 STAGE ROAD\, DEERFIELD\, NH\, 03037\, United States
END:VEVENT
END:VCALENDAR