BEGIN:VCALENDAR
VERSION:2.0
PRODID:-//Granite State Marines - ECPv6.15.20//NONSGML v1.0//EN
CALSCALE:GREGORIAN
METHOD:PUBLISH
X-WR-CALNAME:Granite State Marines
X-ORIGINAL-URL:https://granitestatemarines.com
X-WR-CALDESC:Events for Granite State Marines
REFRESH-INTERVAL;VALUE=DURATION:PT1H
X-Robots-Tag:noindex
X-PUBLISHED-TTL:PT1H
BEGIN:VTIMEZONE
TZID:America/New_York
BEGIN:DAYLIGHT
TZOFFSETFROM:-0500
TZOFFSETTO:-0400
TZNAME:EDT
DTSTART:20250309T070000
END:DAYLIGHT
BEGIN:STANDARD
TZOFFSETFROM:-0400
TZOFFSETTO:-0500
TZNAME:EST
DTSTART:20251102T060000
END:STANDARD
BEGIN:DAYLIGHT
TZOFFSETFROM:-0500
TZOFFSETTO:-0400
TZNAME:EDT
DTSTART:20260308T070000
END:DAYLIGHT
BEGIN:STANDARD
TZOFFSETFROM:-0400
TZOFFSETTO:-0500
TZNAME:EST
DTSTART:20261101T060000
END:STANDARD
BEGIN:DAYLIGHT
TZOFFSETFROM:-0500
TZOFFSETTO:-0400
TZNAME:EDT
DTSTART:20270314T070000
END:DAYLIGHT
BEGIN:STANDARD
TZOFFSETFROM:-0400
TZOFFSETTO:-0500
TZNAME:EST
DTSTART:20271107T060000
END:STANDARD
END:VTIMEZONE
BEGIN:VEVENT
DTSTART;TZID=America/New_York:20260307T110000
DTEND;TZID=America/New_York:20260307T150000
DTSTAMP:20260420T071624
CREATED:20260204T134308Z
LAST-MODIFIED:20260204T134308Z
UID:2850-1772881200-1772895600@granitestatemarines.com
SUMMARY:Department of NH Quarterly Meeting
DESCRIPTION:Time: 1100-1500 (11:00 am-3:00 PM)\nLocation: VFW Hall\, 143 Court Street\, Laconia\, NH 03246            \nMeal will be provided at approximately 1130-1200 by South End Pizza (more to follow as date approaches.)           \nBeverages: Water and soft drinks provided by the host detachment; Lakes Region Det.\n\nThere is a bar in the establishment\, but no arrangements were made for a bartender. Consumption of alcohol\, shall be a Dept. Commandant decision. \n\n\nPOC: Lakes Region Det: Gerald (Jerry) Haddock\, Commandant;\n\n 603-556-9475(h) 703-568- 8732(c) ghaddock@aol.com (email)            \n\n\n\n\nNotes: There is ample parking in and around the facility.  The function hall has ample tables and chairs\, but no A/V support.   Attendees should enter through the function hall entrance. Please RSVP Gerald (Jerry) Haddock\, before March 1 with the number of attendees so an accurate food order can be placed.
URL:https://granitestatemarines.com/event/department-of-nh-quarterly-meeting-5/
LOCATION:VFW Hall\, 143 Court Street\, Laconia\, New Hampshire\, 03246
END:VEVENT
BEGIN:VEVENT
DTSTART;TZID=America/New_York:20260310T180000
DTEND;TZID=America/New_York:20260310T193000
DTSTAMP:20260420T071624
CREATED:20260105T151349Z
LAST-MODIFIED:20260105T151349Z
UID:2806-1773165600-1773171000@granitestatemarines.com
SUMMARY:GSD 542 Monthly Membership Meeting
DESCRIPTION:Time: Meetings begin promptly and 1800 \nInfo: Membership is not a requirement for attendance and guests are always welcome to attend these events.
URL:https://granitestatemarines.com/event/gsd-542-monthly-membership-meeting-13/
LOCATION:American-Canadian Genealogical Society (ACGS)\, 1 Sundial Ave Suite 317\, Manchester\, NH\, 030103\, United States
ORGANIZER;CN="Granite State Detachment 542":MAILTO:granitestatemarines542@gmail.com
END:VEVENT
BEGIN:VEVENT
DTSTART;TZID=America/New_York:20260321T100000
DTEND;TZID=America/New_York:20260321T120000
DTSTAMP:20260420T071624
CREATED:20251203T155156Z
LAST-MODIFIED:20260204T205843Z
UID:2785-1774087200-1774094400@granitestatemarines.com
SUMMARY:GSD 542 Executive Council Meeting
DESCRIPTION:Due to a conflict with the Department of NH meeting on the same date\, the GSD Executive meeting has been moved to 3/21/26. \nThe GSD 542 Executive council meets quarterly to plan the next coming quarter and assess what has happened since the last meeting.
URL:https://granitestatemarines.com/event/gsd-542-executive-council-meeting-4/
LOCATION:American-Canadian Genealogical Society (ACGS)\, 1 Sundial Ave Suite 317\, Manchester\, NH\, 030103\, United States
ORGANIZER;CN="Granite State Detachment 542":MAILTO:granitestatemarines542@gmail.com
END:VEVENT
BEGIN:VEVENT
DTSTART;TZID=America/New_York:20260328T080000
DTEND;TZID=America/New_York:20260328T090000
DTSTAMP:20260420T071624
CREATED:20260105T153133Z
LAST-MODIFIED:20260105T153133Z
UID:2830-1774684800-1774688400@granitestatemarines.com
SUMMARY:GSD 542 Monthly FUNday Breakfast
DESCRIPTION:Join the Granite State Detachment #542 for our monthly breakfast to talk and catch up with each other.
URL:https://granitestatemarines.com/event/gsd-542-monthly-funday-breakfast-18/
LOCATION:Airport Diner\, 2280 Brown Ave\, Manchester\, NH\, United States
ORGANIZER;CN="Granite State Detachment 542":MAILTO:granitestatemarines542@gmail.com
END:VEVENT
END:VCALENDAR