BEGIN:VCALENDAR
VERSION:2.0
PRODID:-//Granite State Marines - ECPv6.15.20//NONSGML v1.0//EN
CALSCALE:GREGORIAN
METHOD:PUBLISH
X-WR-CALNAME:Granite State Marines
X-ORIGINAL-URL:https://granitestatemarines.com
X-WR-CALDESC:Events for Granite State Marines
REFRESH-INTERVAL;VALUE=DURATION:PT1H
X-Robots-Tag:noindex
X-PUBLISHED-TTL:PT1H
BEGIN:VTIMEZONE
TZID:America/New_York
BEGIN:DAYLIGHT
TZOFFSETFROM:-0500
TZOFFSETTO:-0400
TZNAME:EDT
DTSTART:20250309T070000
END:DAYLIGHT
BEGIN:STANDARD
TZOFFSETFROM:-0400
TZOFFSETTO:-0500
TZNAME:EST
DTSTART:20251102T060000
END:STANDARD
BEGIN:DAYLIGHT
TZOFFSETFROM:-0500
TZOFFSETTO:-0400
TZNAME:EDT
DTSTART:20260308T070000
END:DAYLIGHT
BEGIN:STANDARD
TZOFFSETFROM:-0400
TZOFFSETTO:-0500
TZNAME:EST
DTSTART:20261101T060000
END:STANDARD
BEGIN:DAYLIGHT
TZOFFSETFROM:-0500
TZOFFSETTO:-0400
TZNAME:EDT
DTSTART:20270314T070000
END:DAYLIGHT
BEGIN:STANDARD
TZOFFSETFROM:-0400
TZOFFSETTO:-0500
TZNAME:EST
DTSTART:20271107T060000
END:STANDARD
END:VTIMEZONE
BEGIN:VEVENT
DTSTART;VALUE=DATE:20260808
DTEND;VALUE=DATE:20260809
DTSTAMP:20260424T124728
CREATED:20260422T135916Z
LAST-MODIFIED:20260422T135916Z
UID:2967-1786147200-1786233599@granitestatemarines.com
SUMMARY:VetFest 2
DESCRIPTION:The Department of NH will be participating in this awesome event.  On August 8\, we will be at the Deerfield Fairgrounds in support of VetFest 2.  We will have our popup\, table(s) and some items for sale.  Most importantly\, we will have the opportunity to interact with literally thousands of people. \nAttending the event is free.  Vendors and organizations such as ours that will be setting up table and popups have already paid the registration fee. \nThis is the link to a Facebook page for Veterans Resource Alliance of New Hampshire.  These are the folks responsible for VetFest.  Please go to their page and explore it.  Just click here. \nThis is the link to the address the venue for those who need it.  It is at the Deerfield Fairgrounds and that address is here. \nCome on out for a fun time at VetFest 2!
URL:https://granitestatemarines.com/event/vetfest-2/
LOCATION:Deerfield Fairgrounds\, 34 STAGE ROAD\, DEERFIELD\, NH\, 03037\, United States
END:VEVENT
BEGIN:VEVENT
DTSTART;TZID=America/New_York:20260811T180000
DTEND;TZID=America/New_York:20260811T193000
DTSTAMP:20260424T124728
CREATED:20260105T151947Z
LAST-MODIFIED:20260105T151947Z
UID:2816-1786471200-1786476600@granitestatemarines.com
SUMMARY:GSD 542 Monthly Membership Meeting
DESCRIPTION:Time: Meetings begin promptly and 1800 \nInfo: Membership is not a requirement for attendance and guests are always welcome to attend these events.
URL:https://granitestatemarines.com/event/gsd-542-monthly-membership-meeting-18/
LOCATION:American-Canadian Genealogical Society (ACGS)\, 1 Sundial Ave Suite 317\, Manchester\, NH\, 030103\, United States
ORGANIZER;CN="Granite State Detachment 542":MAILTO:granitestatemarines542@gmail.com
END:VEVENT
BEGIN:VEVENT
DTSTART;TZID=America/New_York:20260829T080000
DTEND;TZID=America/New_York:20260829T090000
DTSTAMP:20260424T124728
CREATED:20260217T145558Z
LAST-MODIFIED:20260217T145558Z
UID:2901-1787990400-1787994000@granitestatemarines.com
SUMMARY:GSD 542 Monthly FUNday Breakfast
DESCRIPTION:Join the Granite State Detachment #542 for our monthly breakfast to talk and catch up with each other.
URL:https://granitestatemarines.com/event/gsd-542-monthly-funday-breakfast-23/
LOCATION:Airport Diner\, 2280 Brown Ave\, Manchester\, NH\, United States
ORGANIZER;CN="Granite State Detachment 542":MAILTO:granitestatemarines542@gmail.com
END:VEVENT
END:VCALENDAR